BEGIN:VCALENDAR
VERSION:2.0
PRODID:-//ChamberMaster//Event Calendar 2.0//EN
METHOD:PUBLISH
X-PUBLISHED-TTL:P3D
REFRESH-INTERVAL:P3D
CALSCALE:GREGORIAN
BEGIN:VEVENT
DTSTART;VALUE=DATE:20260613
DTEND;VALUE=DATE:20260614
TRANSP:TRANSPARENT
X-MICROSOFT-CDO-ALLDAYEVENT:TRUE
SUMMARY:44th Annual Paint the Town
DESCRIPTION:Join NeighborWorks  Boise for our flagship community service event supporting seniors\, veterans\, and neighbors with disabilities through exterior painting and home repairs. Get involved:   Register a volunteer team: https://app.servicedays.com/events/132/teams/new   Donate to support home repairs: https://crm.bloomerang.co/HostedDonation?ApiKey=pub_968b7f30-d8f7-11e6-bb7f-024e165d44b3&WidgetId=576250880   Homeowners   Apply for assistance: https://app.servicedays.com/events/132/residents/new   Become a sponsor: https://nwboise.org/wp-content/uploads/2026/02/2026-PTT-Sponsorship-Packet-2.pdf Because a home changes everything.
X-ALT-DESC;FMTTYPE=text/html:Join NeighborWorks&reg\; Boise for our flagship community service event supporting seniors\, veterans\, and neighbors with disabilities through exterior painting and home repairs. Get involved: &bull\; Register a volunteer team: https://app.servicedays.com/events/132/teams/new &bull\; Donate to support home repairs: https://crm.bloomerang.co/HostedDonation?ApiKey=pub_968b7f30-d8f7-11e6-bb7f-024e165d44b3&amp\;WidgetId=576250880 &bull\; Homeowners &ndash\; Apply for assistance: https://app.servicedays.com/events/132/residents/new &bull\; Become a sponsor: https://nwboise.org/wp-content/uploads/2026/02/2026-PTT-Sponsorship-Packet-2.pdf Because a home changes everything.
LOCATION:Throughout Ada County
UID:e.1357.18744
SEQUENCE:3
DTSTAMP:20260420T154944Z
URL:https://business.meridianchamber.org/events/details/44th-annual-paint-the-town-18744
END:VEVENT

END:VCALENDAR
