BEGIN:VCALENDAR
VERSION:2.0
PRODID:-//ChamberMaster//Event Calendar 2.0//EN
METHOD:PUBLISH
X-PUBLISHED-TTL:P3D
REFRESH-INTERVAL:P3D
CALSCALE:GREGORIAN
BEGIN:VEVENT
DTSTART:20260411T233000Z
DTEND:20260412T013000Z
X-MICROSOFT-CDO-ALLDAYEVENT:FALSE
SUMMARY:A Night At The Museum
DESCRIPTION:We're thrilled to invite our community to a magical evening at the Children's Museum of Idaho   Night at the Museum! ????? On April 11th from 5:30 7:30 PM\, the museum transforms into a wondrous world where exhibits don't just sit still  they come to life! ? From swashbuckling pirates and adventurous pilots to historical pioneers demonstrating traditional crafts\, this is an immersive experience your whole family won't want to miss.
X-ALT-DESC;FMTTYPE=text/html:We&rsquo\;re thrilled to invite our community to a magical evening at the Children&rsquo\;s Museum of Idaho &mdash\; Night at the Museum! ????? On April 11th from 5:30&ndash\;7:30 PM\, the museum transforms into a wondrous world where exhibits don&rsquo\;t just sit still&hellip\; they come to life! ? From swashbuckling pirates and adventurous pilots to historical pioneers demonstrating traditional crafts\, this is an immersive experience your whole family won&rsquo\;t want to miss.
LOCATION:The Children's Museum of Idaho 790 S Progress Ave Meridian\, ID 83642
UID:e.1357.18536
SEQUENCE:3
DTSTAMP:20260419T145434Z
URL:https://business.meridianchamber.org/events/details/a-night-at-the-museum-04-11-2026-18536
END:VEVENT

END:VCALENDAR
