BEGIN:VCALENDAR
VERSION:2.0
PRODID:-//ChamberMaster//Event Calendar 2.0//EN
METHOD:PUBLISH
X-PUBLISHED-TTL:P3D
REFRESH-INTERVAL:P3D
CALSCALE:GREGORIAN
BEGIN:VEVENT
DTSTART;VALUE=DATE:20211125
DTEND;VALUE=DATE:20211127
TRANSP:TRANSPARENT
X-MICROSOFT-CDO-ALLDAYEVENT:TRUE
SUMMARY:Chamber of Commerce Closed - Thanksgiving Holiday
DESCRIPTION:The Meridian Chamber of Commerce Offices will be closed Thursday\, November 25th and Friday\, November 26th in observance of the Thanksgiving Holiday.
X-ALT-DESC;FMTTYPE=text/html:The Meridian Chamber of Commerce Offices will be closed Thursday\, November 25th and Friday\, November 26th in observance of the Thanksgiving Holiday.
LOCATION:Thursday\, November 25th and Friday\, November 26th
UID:e.1357.13326
SEQUENCE:3
DTSTAMP:20260424T184940Z
URL:https://business.meridianchamber.org/events/details/chamber-of-commerce-closed-thanksgiving-holiday-13326
END:VEVENT

END:VCALENDAR
