BEGIN:VCALENDAR
VERSION:2.0
PRODID:-//ChamberMaster//Event Calendar 2.0//EN
METHOD:PUBLISH
X-PUBLISHED-TTL:P3D
REFRESH-INTERVAL:P3D
CALSCALE:GREGORIAN
BEGIN:VEVENT
DTSTART:20260713T013000Z
DTEND:20260713T050000Z
X-MICROSOFT-CDO-ALLDAYEVENT:FALSE
SUMMARY:Charley Crockett
DESCRIPTION:Charley Crockett \n\nAge of the Ram Tour \n\nwith special guests Sierra Hull & Wild Horses \n\nFord Idaho Center Amphitheater \n\nJuly 12\, 2026 at 7:30 PM
X-ALT-DESC;FMTTYPE=text/html:Charley Crockett&nbsp\;<br />\nAge of the Ram Tour&nbsp\;<br />\nwith special guests Sierra Hull &amp\; Wild Horses&nbsp\;<br />\nFord Idaho Center Amphitheater&nbsp\;<br />\nJuly 12\, 2026 at 7:30 PM&nbsp\;
LOCATION:Ford Idaho Center 16200 Idaho Center Blvd\, Nampa\, Idaho 83687
UID:e.1357.18748
SEQUENCE:3
DTSTAMP:20260422T140751Z
URL:https://business.meridianchamber.org/events/details/charley-crockett-18748
END:VEVENT

END:VCALENDAR
