BEGIN:VCALENDAR
VERSION:2.0
PRODID:-//ChamberMaster//Event Calendar 2.0//EN
METHOD:PUBLISH
X-PUBLISHED-TTL:P3D
REFRESH-INTERVAL:P3D
CALSCALE:GREGORIAN
BEGIN:VEVENT
DTSTART:20240222T160000Z
DTEND:20240222T173000Z
X-MICROSOFT-CDO-ALLDAYEVENT:FALSE
SUMMARY:DiSC Communication Skills Workshop
DESCRIPTION:In this changing world of technology\, effective interpersonal skills are more important than ever. With that in mind\, we are offering a DiSC Communication skills workshop to help you and your team members communicate more effectively with colleagues and customers.\n\n\n\nThis in-person\, promotional workshop includes a 20-page DiSC profile report helping you explore your priorities and learn strategies to improve your effectiveness when working with other styles.\n\n\n\nEnroll today to discover your own DiSC style\, understand styles of others\, build more effective relationships\, and improve your influence and impact.
X-ALT-DESC;FMTTYPE=text/html:In this changing world of technology\, effective interpersonal skills are more important than ever. With that in mind\, we are offering a DiSC Communication skills workshop to help you and your team members communicate more effectively with colleagues and customers.<br />\n<br />\nThis in-person\, promotional workshop includes a 20-page DiSC profile report helping you explore your priorities and learn strategies to improve your effectiveness when working with other styles.<br />\n<br />\nEnroll today to discover your own DiSC style\, understand styles of others\, build more effective relationships\, and improve your influence and impact.
LOCATION:Fisher's Technology 575 East 42nd Street Boise\, ID 83714
UID:e.1357.14795
SEQUENCE:3
DTSTAMP:20260419T183532Z
URL:https://business.meridianchamber.org/events/details/disc-communication-skills-workshop-14795
END:VEVENT

END:VCALENDAR
