BEGIN:VCALENDAR
VERSION:2.0
PRODID:-//ChamberMaster//Event Calendar 2.0//EN
METHOD:PUBLISH
X-PUBLISHED-TTL:P3D
REFRESH-INTERVAL:P3D
CALSCALE:GREGORIAN
BEGIN:VEVENT
DTSTART:20181023T133000Z
DTEND:20181023T153000Z
X-MICROSOFT-CDO-ALLDAYEVENT:FALSE
SUMMARY:Economic Excellence Breakfast
DESCRIPTION:"Paving the Way for Growth and Transportation in Meridian"\n\n\n\nListen to industry professionals from COMPASS\, Idaho Department of Transportation\, Ada County Highway District\, and local lawmakers on the future of Meridian's growth and issues regarding transportation.\n\n\n\nPanel Speakers:\n\nDavid Wallace - Deputy Director of Planning & Projects\, ACHD\n\nMatt Stoll - Executive Director\, COMPASS\n\nSenator Lori Den Hartog - District 22\, Senate Transportation Committee\n\nCaleb Hood - Planning Division Manager\, City of Meridian
X-ALT-DESC;FMTTYPE=text/html:<br />\n<span style="color:#FFA500\;"><span style="font-size:18px\;"><span style="font-family:palatino linotype\,serif\;"><span style="font-size:22px\;">&quot\;Paving the Way for Growth and Transportation in Meridian&quot\;</span></span></span></span><br />\n<br />\n<span style="font-size:18px\;"><span style="font-family: &quot\;Palatino Linotype&quot\;\, serif\;">Listen to industry professionals from COMPASS\, Idaho Department of Transportation\, Ada County Highway District\, and local lawmakers on the future of Meridian&#39\;s growth and issues regarding transportation.<br />\n<br />\n<u><strong>Panel Speakers:</strong></u><br />\nDavid Wallace - Deputy Director of Planning &amp\; Projects\, ACHD<br />\nMatt Stoll - Executive Director\, COMPASS<br />\nSenator Lori Den Hartog - District 22\, Senate Transportation Committee<br />\nCaleb Hood - Planning Division Manager\, City of Meridian&nbsp\;</span></span><br />\n<br />\n<br />\n<span style="font-size: 12pt\; font-family: &quot\;Times New Roman&quot\;\, serif\;"><!--[if !supportLineBreakNewLine]--><br />\n<!--[endif]--></span><br />\n<br />\n&nbsp\;
LOCATION:West Ada School District - Auditorium 1303 E Central Drive\, Meridian (Eastern most entrance to the West Ada Campus). Need a parking permit? Email info@meridianchamber.org or pick one up the day of the event.
UID:e.1357.11491
SEQUENCE:3
DTSTAMP:20260425T215446Z
URL:https://business.meridianchamber.org/events/details/economic-excellence-breakfast-11491
END:VEVENT

END:VCALENDAR
