BEGIN:VCALENDAR
VERSION:2.0
PRODID:-//ChamberMaster//Event Calendar 2.0//EN
METHOD:PUBLISH
X-PUBLISHED-TTL:P3D
REFRESH-INTERVAL:P3D
CALSCALE:GREGORIAN
BEGIN:VEVENT
DTSTART:20260505T230000Z
DTEND:20260506T020000Z
X-MICROSOFT-CDO-ALLDAYEVENT:FALSE
SUMMARY:Faith Impact Expo hosted by Northwest Christian Credit Union
DESCRIPTION:Join us in celebrating local\, faith-based non-profit organizations including JEMFriends\, Foster + Heart\, Boise Rescue Mission\, Stanton Healthcare\, Second Chance Grace\, and MANY MORE!\n\nA block-party style event\, attendees can get to know these organizations\, get food from local food trucks (IdaPoe BBQ\, Classic Guac and Roll\, La Crepe Boise\, Sugar Rush\, and Kona Ice)\, visit a face painter\, play games\, and more!\n\n\n\nCome learn about the good work these faith-based nonprofits do for our community\, as well as enjoy a fun night out with your family. We hope to see you there!
X-ALT-DESC;FMTTYPE=text/html:<p>Join us in celebrating local\, faith-based non-profit organizations including JEMFriends\, Foster + Heart\, Boise Rescue Mission\, Stanton Healthcare\, Second Chance Grace\, and MANY MORE!</p>\n\n<p>A block-party style event\, attendees can get to know these organizations\, get food from local food trucks (IdaPoe BBQ\, Classic Guac and Roll\, La Crepe Boise\, Sugar Rush\, and Kona Ice)\, visit a face painter\, play games\, and more!<br />\n<br />\nCome learn about the good work these faith-based nonprofits do for our community\, as well as enjoy a fun night out with your family. We hope to see you there!</p>\n
LOCATION:Northwest Christian Credit Union 4250 E Fairview Ave Meridian\, ID 83642
UID:e.1357.18859
SEQUENCE:3
DTSTAMP:20260422T003922Z
URL:https://business.meridianchamber.org/events/details/faith-impact-expo-hosted-by-northwest-christian-credit-union-18859
END:VEVENT

END:VCALENDAR
