BEGIN:VCALENDAR
VERSION:2.0
PRODID:-//ChamberMaster//Event Calendar 2.0//EN
METHOD:PUBLISH
X-PUBLISHED-TTL:P3D
REFRESH-INTERVAL:P3D
CALSCALE:GREGORIAN
BEGIN:VEVENT
DTSTART:20261106T143000Z
DTEND:20261106T153000Z
X-MICROSOFT-CDO-ALLDAYEVENT:FALSE
SUMMARY:First Friday Networking: Tomlinson South Meridian YMCA
DESCRIPTION:
X-ALT-DESC;FMTTYPE=text/html:
LOCATION:South Meridian Tomlinson YMCA
UID:e.1357.18014
SEQUENCE:3
DTSTAMP:20260420T153804Z
URL:https://business.meridianchamber.org/events/details/first-friday-networking-tomlinson-south-meridian-ymca-18014
END:VEVENT

END:VCALENDAR
