BEGIN:VCALENDAR
VERSION:2.0
PRODID:-//ChamberMaster//Event Calendar 2.0//EN
METHOD:PUBLISH
X-PUBLISHED-TTL:P3D
REFRESH-INTERVAL:P3D
CALSCALE:GREGORIAN
BEGIN:VEVENT
DTSTART:20260611T150000Z
DTEND:20260611T183000Z
X-MICROSOFT-CDO-ALLDAYEVENT:FALSE
SUMMARY:FREE Playdate at The Learning Experience - Meridian
DESCRIPTION:Come join the fun at FREE Playdate at The Learning Experience - Meridian for a day of laughs and learning!\n\n\n\n\n\nFREE Weekly Play Day at TLE Meridian!\n\nEvery Thursday | 9:00 AM   12:30 PM\n\nWe're excited to invite all little learners to join us for a FREE Play Day at The Learning Experience   Meridian\, happening every Thursday morning!\n\nThis special weekly event is the perfect opportunity for families to experience our school in action\, meet our wonderful teachers\, and explore our engaging curriculum   all while your child participates in the fun!\n\n*What to Expect*\n\n-Meet Our Teachers\n\nConnect with our caring team and learn about our programs.\n\n-Explore Our Curriculum\n\nSee how learning comes to life through hands-on activities and purposeful play.\n\n-Participate in Classroom Activities\n\nYour child will join in the fun with engaging\, age-appropriate activities.\n\n-Morning Snack & Lunch Included\n\nEnjoy a snack and lunch   on us!\n\nThis is a FREE community event\, but RSVP is required to ensure we're prepared for your little learner.\n\nWhether you're exploring childcare options or simply want to experience what makes TLE so special\, we would love to welcome you.\n\nTo learn more about our preschool and daycare programs\, visit:\n\nhttps://thelearningexperience.com/centers/meridian-id/\n\nBecause at TLE\, Happy Happens Here   and we can't wait to share that with you!
X-ALT-DESC;FMTTYPE=text/html:<div>\n<div>\n<p>Come join the fun at FREE Playdate at The Learning Experience - Meridian for a day of laughs and learning!</p>\n</div>\n</div>\n\n<div>\n<div>\n<h2>FREE Weekly Play Day at TLE Meridian!</h2>\n\n<p>Every Thursday | 9:00 AM &ndash\; 12:30 PM</p>\n\n<p>We&rsquo\;re excited to invite all little learners to join us for a&nbsp\;FREE Play Day at The Learning Experience &ndash\; Meridian\, happening&nbsp\;every Thursday morning!</p>\n\n<p>This special weekly event is the perfect opportunity for families to experience our school in action\, meet our wonderful teachers\, and explore our engaging curriculum &mdash\; all while your child participates in the fun!</p>\n\n<h3>*What to Expect*</h3>\n\n<p>-Meet Our Teachers<br />\nConnect with our caring team and learn about our programs.</p>\n\n<p>-Explore Our Curriculum<br />\nSee how learning comes to life through hands-on activities and purposeful play.</p>\n\n<p>-Participate in Classroom Activities<br />\nYour child will join in the fun with engaging\, age-appropriate activities.</p>\n\n<p>-Morning Snack &amp\; Lunch Included<br />\nEnjoy a snack and lunch &mdash\; on us!</p>\n\n<p>This is a&nbsp\;FREE community event\, but&nbsp\;RSVP is required&nbsp\;to ensure we&rsquo\;re prepared for your little learner.</p>\n\n<p>Whether you&rsquo\;re exploring childcare options or simply want to experience what makes TLE so special\, we would love to welcome you.</p>\n\n<p>To learn more about our preschool and daycare programs\, visit:<br />\n<a href="https://thelearningexperience.com/centers/meridian-id/" rel="nofollow noopener noreferrer" style="box-sizing: border-box\; padding: 0px\; margin: 0px\; color: rgb(54\, 89\, 227)\;" target="_blank" title="https://thelearningexperience.com/centers/meridian-id/">https://thelearningexperience.com/centers/meridian-id/</a></p>\n\n<p>Because at TLE\, Happy Happens Here &mdash\; and we can&rsquo\;t wait to share that with you!&nbsp\;</p>\n</div>\n</div>\n
LOCATION:The Learning Experience - Meridian 6241 N Linder Rd\, Meridian\, ID\, 83646
UID:e.1357.18551
SEQUENCE:3
DTSTAMP:20260420T153916Z
URL:https://business.meridianchamber.org/events/details/free-playdate-at-the-learning-experience-meridian-06-11-2026-18551
END:VEVENT

END:VCALENDAR
