BEGIN:VCALENDAR
VERSION:2.0
PRODID:-//ChamberMaster//Event Calendar 2.0//EN
METHOD:PUBLISH
X-PUBLISHED-TTL:P3D
REFRESH-INTERVAL:P3D
CALSCALE:GREGORIAN
BEGIN:VEVENT
DTSTART:20270109T170000Z
DTEND:20270109T180000Z
X-MICROSOFT-CDO-ALLDAYEVENT:FALSE
SUMMARY:Gebert-Arbaugh Polar Bear Challenge
DESCRIPTION:Join the 23rd Annual Gebert-Arbaugh Polar Bear Challenge!\n\nTake the plunge into Lucky Peak Reservoir and make a difference for Idaho kids. This annual event brings together individuals and teams willing to brave icy waters for a great cause. Costumes\, team spirit\, and plenty of fun are encouraged!\n\nWhen & Where:\n\nLucky Peak Reservoir at 10am..\n\nWhy Participate?\n\nThe Polar Bear Challenge is a peer-to-peer fundraiser benefiting Make-A-Wish  Idaho. Every splash helps grant life-changing wishes for children with critical illnesses across our state. Participants raise funds through sponsorships from friends\, family\, and local businesses like yours\, turning a bold leap into hope for Idaho kids.\n\nReady to take the challenge?\n\nGather your team\, dress up\, and dive in for an unforgettable experience that warms hearts even in the coldest water!  https://wish.org/idaho/gebert-arbaugh-polar-bear-challenge-2026
X-ALT-DESC;FMTTYPE=text/html:<p><strong>Join the 23rd Annual Gebert-Arbaugh Polar Bear Challenge!</strong><br />\nTake the plunge into Lucky Peak Reservoir and make a difference for Idaho kids. This annual event brings together individuals and teams willing to brave icy waters for a great cause. Costumes\, team spirit\, and plenty of fun are encouraged!</p>\n\n<p><strong>When &amp\; Where:</strong><br />\nLucky Peak Reservoir at 10am..</p>\n\n<p><strong>Why Participate?</strong><br />\nThe Polar Bear Challenge is a peer-to-peer fundraiser benefiting <strong>Make-A-Wish&reg\; Idaho</strong>. Every splash helps grant life-changing wishes for children with critical illnesses across our state. Participants raise funds through sponsorships from friends\, family\, and local businesses like yours\, turning a bold leap into hope for Idaho kids.</p>\n\n<p><strong>Ready to take the challenge?</strong><br />\nGather your team\, dress up\, and dive in for an unforgettable experience that warms hearts even in the coldest water!&nbsp\;&nbsp\;https://wish.org/idaho/gebert-arbaugh-polar-bear-challenge-2026&nbsp\;</p>\n
LOCATION:The Lucky Peak Reservoir Spring Shores Marina 74 Idaho 21\, Boise\, ID 83716
UID:e.1357.17074
SEQUENCE:3
DTSTAMP:20260420T192134Z
URL:https://business.meridianchamber.org/events/details/gebert-arbaugh-polar-bear-challenge-01-09-2027-17074
END:VEVENT

END:VCALENDAR
