BEGIN:VCALENDAR
VERSION:2.0
PRODID:-//ChamberMaster//Event Calendar 2.0//EN
METHOD:PUBLISH
X-PUBLISHED-TTL:P3D
REFRESH-INTERVAL:P3D
CALSCALE:GREGORIAN
BEGIN:VEVENT
DTSTART:20231209T170000Z
DTEND:20231209T210000Z
X-MICROSOFT-CDO-ALLDAYEVENT:FALSE
SUMMARY:Gingerbread House Decoration with CMI
DESCRIPTION:Families can participate together in some holiday fun by decorating a pre-assembled gingerbread house. The museum provides all the materials and even cleans up the mess. One-hour sessions will be held at 10:00 a.m.\, 11:30 a.m.\, and 1:00 p.m. on Saturday\, November 9. Children must be accompanied by adults. Pricing is $35 for up to three guests per house\, $10 extra guest\, $20 extra house. Space is limited\, so sign up early at Calendar (Events) | Children's Museum of Idaho (cmidaho.org). Workshops are located at The Muse Fun Learning Workshop at 750 S. Progress\, Suite 110 (directly across the parking lot from the museum).
X-ALT-DESC;FMTTYPE=text/html:Families can participate together in some holiday fun by decorating a pre-assembled gingerbread house. The museum provides all the materials and even cleans up the mess. One-hour sessions will be held at 10:00 a.m.\, 11:30 a.m.\, and 1:00 p.m. on Saturday\, November 9. Children must be accompanied by adults. Pricing is $35 for up to three guests per house\, $10 extra guest\, $20 extra house. Space is limited\, so sign up early at Calendar (Events) | Children&#39\;s Museum of Idaho (cmidaho.org). Workshops are located at The Muse Fun Learning Workshop at 750 S. Progress\, Suite 110 (directly across the parking lot from the museum).
LOCATION:Children's Museum of Idaho
UID:e.1357.14607
SEQUENCE:3
DTSTAMP:20260422T124112Z
URL:https://business.meridianchamber.org/events/details/gingerbread-house-decoration-with-cmi-12-09-2023-14607
END:VEVENT

END:VCALENDAR
