BEGIN:VCALENDAR
VERSION:2.0
PRODID:-//ChamberMaster//Event Calendar 2.0//EN
METHOD:PUBLISH
X-PUBLISHED-TTL:P3D
REFRESH-INTERVAL:P3D
CALSCALE:GREGORIAN
BEGIN:VEVENT
DTSTART:20260502T160000Z
DTEND:20260502T220000Z
X-MICROSOFT-CDO-ALLDAYEVENT:FALSE
SUMMARY:Girls Day Out Expo
DESCRIPTION:The Girls Day Out Expo is a biannual event for women of all ages to enjoy a day of fun! Not only can ladies sip and shop at this unique\, intimate and festive shopping experience\, Girls Day Out offers free admission! Ladies can peruse many exhibits displaying hand-crafted jewelry\, local sweets and savories\, arts\, crafts\, boutique businesses\, home decor\, apparel\, beauty products and services from around the Treasure Valley.\n\n\n\nGet your free passes at www.GirlsDayOutExpo.com
X-ALT-DESC;FMTTYPE=text/html:<span style="color:#3C4042"><span style="font-family:arial\,sans-serif"><span style="font-size:10.0pt">The Girls Day Out Expo is a biannual event for women of all ages to enjoy a day of fun! Not only can ladies sip and shop at this unique\, intimate and festive shopping experience\, Girls Day Out offers free admission! Ladies can peruse many exhibits displaying hand-crafted jewelry\, local sweets and savories\, arts\, crafts\, boutique businesses\, home decor\, apparel\, beauty products and services from around the Treasure Valley.</span></span></span><br />\n<br />\nGet your free passes at www.GirlsDayOutExpo.com<br />\n<br />\n<br />\n&nbsp\;
LOCATION:Expo Idaho 5610 N Glenwood Boise\, ID 83714
UID:e.1357.18749
SEQUENCE:3
DTSTAMP:20260422T141115Z
URL:https://business.meridianchamber.org/events/details/girls-day-out-expo-05-02-2026-18749
END:VEVENT

END:VCALENDAR
