BEGIN:VCALENDAR
VERSION:2.0
PRODID:-//ChamberMaster//Event Calendar 2.0//EN
METHOD:PUBLISH
X-PUBLISHED-TTL:P3D
REFRESH-INTERVAL:P3D
CALSCALE:GREGORIAN
BEGIN:VEVENT
DTSTART:20260417T180000Z
DTEND:20260426T230000Z
X-MICROSOFT-CDO-ALLDAYEVENT:FALSE
SUMMARY:Great Homes Tour 2026
DESCRIPTION:GREAT HOMES TOUR IS BACK! This spring\, Great Homes Tour invites you to tour ELEVEN gorgeous showcase homes by FIVE different builders. Featured Builders: - Alturas Homes - Brighton - James Clyde Homes - J Edwards - Osprey Homes Featured Communities: - Pinnacle in South Meridian - The Highlands at Cartwright Ranch in Northwest Boise - Creekside at Cartwright Ranch in Northwest Boise Mark your calendar for TWO incredible weekends: April 17-19 & April 24-26 FRI & SAT | 12 PM - 7 PM SUN | 1 PM - 5 PM This is a free event! Join us for block parties\, food\, fun\, giveaways\, special offers\, and more. Learn more and see home locations at GreatHomesTour.com
X-ALT-DESC;FMTTYPE=text/html:GREAT HOMES TOUR IS BACK! This spring\, Great Homes Tour invites you to tour ELEVEN gorgeous showcase homes by FIVE different builders. Featured Builders: - Alturas Homes - Brighton - James Clyde Homes - J Edwards - Osprey Homes Featured Communities: - Pinnacle in South Meridian - The Highlands at Cartwright Ranch in Northwest Boise - Creekside at Cartwright Ranch in Northwest Boise Mark your calendar for TWO incredible weekends: April 17-19 &amp\; April 24-26 FRI &amp\; SAT | 12 PM - 7 PM SUN | 1 PM - 5 PM This is a free event! Join us for block parties\, food\, fun\, giveaways\, special offers\, and more. Learn more and see home locations at GreatHomesTour.com
LOCATION:- Pinnacle in South Meridian - The Highlands at Cartwright Ranch in Northwest Boise - Creekside at Cartwright Ranch in Northwest Boise
UID:e.1357.18526
SEQUENCE:3
DTSTAMP:20260419T130852Z
URL:https://business.meridianchamber.org/events/details/great-homes-tour-2026-18526
END:VEVENT

END:VCALENDAR
