BEGIN:VCALENDAR
VERSION:2.0
PRODID:-//ChamberMaster//Event Calendar 2.0//EN
METHOD:PUBLISH
X-PUBLISHED-TTL:P3D
REFRESH-INTERVAL:P3D
CALSCALE:GREGORIAN
BEGIN:VEVENT
DTSTART:20260503T010000Z
DTEND:20260503T040000Z
X-MICROSOFT-CDO-ALLDAYEVENT:FALSE
SUMMARY:Greg Gutfeld GUTFELD LIVE '26
DESCRIPTION:GUTFELD LIVE '26\n\nFeaturing Greg Gutfeld & special guest Tom Shillue\n\nFord Idaho Center Arena\n\nSaturday\, May 2nd\, 2026\n\n7:00 pm\n\nTickets: https://ictickets.evenue.net/events/GUTFELD?RSRC=GATE25&RDAT=VEN_SOC_COMCAL
X-ALT-DESC;FMTTYPE=text/html:GUTFELD LIVE &#39\;26<br />\nFeaturing Greg Gutfeld &amp\; special guest Tom Shillue<br />\nFord Idaho Center Arena<br />\nSaturday\, May 2nd\, 2026<br />\n7:00 pm<br />\nTickets: https://ictickets.evenue.net/events/GUTFELD?RSRC=GATE25&amp\;RDAT=VEN_SOC_COMCAL
LOCATION:16200 Idaho Center Blvd Nampa\, ID 83687
UID:e.1357.16646
SEQUENCE:3
DTSTAMP:20260422T140910Z
URL:https://business.meridianchamber.org/events/details/greg-gutfeld-gutfeld-live-26-16646
END:VEVENT

END:VCALENDAR
