BEGIN:VCALENDAR
VERSION:2.0
PRODID:-//ChamberMaster//Event Calendar 2.0//EN
METHOD:PUBLISH
X-PUBLISHED-TTL:P3D
REFRESH-INTERVAL:P3D
CALSCALE:GREGORIAN
BEGIN:VEVENT
DTSTART:20260502T160000Z
DTEND:20260503T220000Z
X-MICROSOFT-CDO-ALLDAYEVENT:FALSE
SUMMARY:Idaho Outdoor Expo
DESCRIPTION:The Idaho Outdoor Expo is a vibrant\, two-day celebration of Idaho's outdoor lifestyle\, bringing together the people\, gear\, and experiences that make exploring this region unforgettable. From fishing\, hiking\, hunting\, and paddling to discovering new destinations and outdoor-inspired products\, attendees can shop\, learn\, and connect directly with the experts who live and breathe adventure. It's the perfect place to get inspired\, discover something new\, and plan your next great Idaho outing all in a fun\, community-driven atmosphere.
X-ALT-DESC;FMTTYPE=text/html:<span style="color:rgb(60\, 64\, 66)\; font-family:acumin-pro\,sans-serif\; font-size:16px">The Idaho Outdoor Expo is a vibrant\, two-day celebration of Idaho&rsquo\;s outdoor lifestyle\, bringing together the people\, gear\, and experiences that make exploring this region unforgettable. From fishing\, hiking\, hunting\, and paddling to discovering new destinations and outdoor-inspired products\, attendees can shop\, learn\, and connect directly with the experts who live and breathe adventure. It&rsquo\;s the perfect place to get inspired\, discover something new\, and plan your next great Idaho outing&mdash\;all in a fun\, community-driven atmosphere.</span>
LOCATION:Expo Idaho 5610 N Glenwood St Boise\, ID 83714
UID:e.1357.18751
SEQUENCE:3
DTSTAMP:20260422T140837Z
URL:https://business.meridianchamber.org/events/details/idaho-outdoor-expo-18751
END:VEVENT

END:VCALENDAR
