BEGIN:VCALENDAR
VERSION:2.0
PRODID:-//ChamberMaster//Event Calendar 2.0//EN
METHOD:PUBLISH
X-PUBLISHED-TTL:P3D
REFRESH-INTERVAL:P3D
CALSCALE:GREGORIAN
BEGIN:VEVENT
DTSTART:20260509T160000Z
DTEND:20260509T220000Z
X-MICROSOFT-CDO-ALLDAYEVENT:FALSE
SUMMARY:Idaho Pet Expo
DESCRIPTION:Bring your well-behaved\, furry\, feathered and scaly friends to this year's Pet Expo!\n\nThis pet friendly event is open to pet enthusiasts of all ages and provides a day packed full of everything your pet could ever need.  There will be an array of local and national pet products and services such as food items\, toys\, gear\, microchipping\, grooming and more!  \n\nYou and your kids will LOVE the live appearance by nationally recognized animal expert\, biologist\, and television personality\, Corbin Maxey at 12pm and 2pm.  Kids will be excited to see Corbin's exotic reptile friends during his entertaining and educational show!
X-ALT-DESC;FMTTYPE=text/html:<p>Bring your well-behaved\, furry\, feathered and scaly friends to this year&#39\;s Pet Expo!</p>\n\n<p>This pet friendly event is open to pet enthusiasts of all ages and provides a day packed full of everything your pet could ever need. &nbsp\;There will be an array of local and national pet products and services such as food items\, toys\, gear\, microchipping\, grooming and more! &nbsp\;</p>\n\n<p>You and your kids will LOVE the live appearance by nationally recognized animal expert\, biologist\, and television personality\,&nbsp\;<a href="https://www.corbinmaxey.com/" rel="noopener nofollow" style="box-sizing: border-box\; color: rgb(152\, 202\, 63)\; text-decoration: none\;" target="_blank" title="Corbin Maxey website">Corbin Maxey&nbsp\;</a>at 12pm and 2pm. &nbsp\;Kids will be excited to see Corbin&#39\;s exotic reptile friends during his entertaining and educational show!</p>\n\n<p>&nbsp\;</p>\n
LOCATION:Expo Idaho 5610 N Glenwood St\, Boise\, ID\, 83714
UID:e.1357.18435
SEQUENCE:3
DTSTAMP:20260422T103205Z
URL:https://business.meridianchamber.org/events/details/idaho-pet-expo-05-09-2026-18435
END:VEVENT

END:VCALENDAR
