BEGIN:VCALENDAR
VERSION:2.0
PRODID:-//ChamberMaster//Event Calendar 2.0//EN
METHOD:PUBLISH
X-PUBLISHED-TTL:P3D
REFRESH-INTERVAL:P3D
CALSCALE:GREGORIAN
BEGIN:VEVENT
DTSTART:20260801T013000Z
DTEND:20260801T050000Z
X-MICROSOFT-CDO-ALLDAYEVENT:FALSE
SUMMARY:Jason Aldean
DESCRIPTION:Jason Aldean \n\nSongs About Us Tour 2026 \n\nwith Chase Matthew\, Mackenzie Carpenter\, & Dee Jay Silver \n\nFord Idaho Center Amphitheater \n\nFriday\, July 31\, 2026 7:30 PM
X-ALT-DESC;FMTTYPE=text/html:Jason Aldean&nbsp\;<br />\nSongs About Us Tour 2026&nbsp\;<br />\nwith Chase Matthew\, Mackenzie Carpenter\, &amp\; Dee Jay Silver&nbsp\;<br />\nFord Idaho Center Amphitheater&nbsp\;<br />\nFriday\, July 31\, 2026 7:30 PM&nbsp\;
LOCATION:Ford Idaho Center 16200 Idaho Center Blvd\, Nampa\, Idaho 83687
UID:e.1357.18747
SEQUENCE:3
DTSTAMP:20260422T140704Z
URL:https://business.meridianchamber.org/events/details/jason-aldean-18747
END:VEVENT

END:VCALENDAR
