BEGIN:VCALENDAR
VERSION:2.0
PRODID:-//ChamberMaster//Event Calendar 2.0//EN
METHOD:PUBLISH
X-PUBLISHED-TTL:P3D
REFRESH-INTERVAL:P3D
CALSCALE:GREGORIAN
BEGIN:VEVENT
DTSTART:20200501T200000Z
DTEND:20200501T211500Z
X-MICROSOFT-CDO-ALLDAYEVENT:FALSE
SUMMARY:Keep Meridian Healthy & Open for Business Campaign Launch
DESCRIPTION:Keep Meridian Healthy & Open for Business campaign launch\n\nAs we move forward\, we know you are anxious to reopen your doors. To ensure the safety of our community and to help you navigate the new normal\, we have created the Keep Meridian Healthy & Open for Business campaign. \n\nThe campaign is designed to help local businesses re-open in a safe and responsible way. It's important that you are inviting customers back into a business that will instill confidence and trust in your customers and the community\, that you are doing everything possible to maintain a safe and healthy environment.\n\nThe Meridian Chamber of Commerce\, in partnership with the City of Meridian\, Central District Health\, Crush the Curve Idaho\, and other community organizations and individuals\, will provide our local businesses with a comprehensive package to help businesses navigate re-opening. Keep Meridian Healthy & Open for Business includes education\, virtual workshops\, guidance\, and best practices for re-opening your businesses in accordance with the Governor's Stay Safe Order and the State of Idaho's 4-stage Idaho Rebound plan to reopen most of Idaho by June.\n\nThrough community-facing collateral materials\, participating businesses will be able to show their employees\, customers and guests that they are committed to maintain safe facilities that incorporate the operational guidelines in place.\n\nThe Keep Meridian Healthy & Open for Business campaign will provide free webinars for various business sectors. These webinars are for local businesses\, by local businesses that are leading the way in establishing additional protocols for their respective industries. The webinars will also include health and public safety leaders sharing the minimum requirements to be in compliance with the re-opening orders based on your industry sector.\n\nThis program is FREE and available for all Meridian based businesses to participate.\n\nJoin us for our first webinar as we launch the program and share information on the schedule for fast approaching industry specific webinars as well as how you can communicate your commitment to safety to your employees and customers.\n\nKeep Meridian Healthy & Open for Business\n\nFriday\, May 1\, 2020\n\n2:00 p.m. - 3:15 p.m.\n\nGoToMeeting Webinar - Register for access information
X-ALT-DESC;FMTTYPE=text/html:<div style="color: rgb(46\, 47\, 47)\; font-family: Verdana\, Geneva\, sans-serif\; font-size: 14px\; white-space: pre-wrap\; background-color: rgb(255\, 255\, 255)\;">\n<div style="color: rgb(46\, 47\, 47)\; font-family: Verdana\, Geneva\, sans-serif\; font-size: 14px\; background-color: rgb(255\, 255\, 255)\;"><span style="font-size:22px\;"><span style="color: rgb(41\, 75\, 147)\; font-weight: bold\;">Keep Meridian Healthy &amp\; Open for Business campaign launch</span></span></div>\n\n<div style="color: rgb(46\, 47\, 47)\; font-family: Verdana\, Geneva\, sans-serif\; font-size: 14px\; background-color: rgb(255\, 255\, 255)\;"><span style="font-size: 16px\; color: rgb(0\, 0\, 0)\; font-family: Cambria\, Georgia\, &quot\;Times New Roman&quot\;\, serif\;">As we move forward\, we know you are anxious to reopen your doors. To ensure the safety of our community and to help you navigate the new normal\, we have created the&nbsp\;</span><span style="font-size: 16px\; color: rgb(0\, 0\, 0)\; font-family: Cambria\, Georgia\, &quot\;Times New Roman&quot\;\, serif\; font-weight: bold\;">Keep Meridian Healthy &amp\; Open for Business&nbsp\;</span><span style="font-size: 16px\; color: rgb(0\, 0\, 0)\; font-family: Cambria\, Georgia\, &quot\;Times New Roman&quot\;\, serif\;">campaign.</span><span style="font-size: 16px\; color: rgb(0\, 0\, 0)\; font-family: Arial\, Verdana\, Helvetica\, sans-serif\;">&nbsp\;</span></div>\n\n<div style="color: rgb(46\, 47\, 47)\; font-family: Verdana\, Geneva\, sans-serif\; font-size: 14px\; background-color: rgb(255\, 255\, 255)\;"><span style="font-size: 16px\; color: rgb(0\, 0\, 0)\; font-family: Cambria\, Georgia\, &quot\;Times New Roman&quot\;\, serif\;">The campaign is designed to help local businesses re-open in a safe and responsible way.&nbsp\;It&rsquo\;s important that you are inviting customers back into a business that will instill confidence and trust in your customers and the community\, that you are doing everything possible to maintain a safe and healthy environment.</span></div>\n\n<div style="color: rgb(46\, 47\, 47)\; font-family: Verdana\, Geneva\, sans-serif\; font-size: 14px\; background-color: rgb(255\, 255\, 255)\;"><span style="font-size: 16px\; color: rgb(0\, 0\, 0)\; font-family: Cambria\, Georgia\, &quot\;Times New Roman&quot\;\, serif\;">The Meridian Chamber of Commerce\, in partnership with the City of Meridian\, Central District Health\, Crush the Curve Idaho\, and other community organizations and individuals\, will provide our local businesses with a comprehensive package to help businesses navigate re-opening.&nbsp\;</span><span style="font-size: 16px\; color: rgb(0\, 0\, 0)\; font-family: Cambria\, Georgia\, &quot\;Times New Roman&quot\;\, serif\; font-weight: bold\;">Keep Meridian Healthy &amp\; Open for Business</span>&nbsp\;<span style="font-size: 16px\; color: rgb(0\, 0\, 0)\; font-family: Cambria\, Georgia\, &quot\;Times New Roman&quot\;\, serif\;">includes education\, virtual workshops\, guidance\, and best practices for re-opening your businesses in accordance with the Governor&rsquo\;s Stay Safe Order and the State of Idaho&rsquo\;s 4-stage Idaho Rebound plan to reopen most of Idaho by June.</span></div>\n\n<div style="color: rgb(46\, 47\, 47)\; font-family: Verdana\, Geneva\, sans-serif\; font-size: 14px\; background-color: rgb(255\, 255\, 255)\;"><span style="font-size: 16px\; color: rgb(0\, 0\, 0)\; font-family: Cambria\, Georgia\, &quot\;Times New Roman&quot\;\, serif\;">Through community-facing collateral materials\, participating businesses will be able to show their employees\, customers and guests that they are committed to maintain safe facilities that incorporate the operational guidelines in place.<br />\nThe&nbsp\;</span><span style="font-size: 16px\; color: rgb(0\, 0\, 0)\; font-family: Cambria\, Georgia\, &quot\;Times New Roman&quot\;\, serif\; font-weight: bold\;">Keep Meridian Healthy &amp\; Open for Business</span>&nbsp\;<span style="font-size: 16px\; color: rgb(0\, 0\, 0)\; font-family: Cambria\, Georgia\, &quot\;Times New Roman&quot\;\, serif\;">campaign will provide&nbsp\;</span><span style="font-size: 16px\; color: rgb(0\, 0\, 0)\; font-family: Cambria\, Georgia\, &quot\;Times New Roman&quot\;\, serif\; font-weight: bold\;">free</span>&nbsp\;<span style="font-size: 16px\; color: rgb(0\, 0\, 0)\; font-family: Cambria\, Georgia\, &quot\;Times New Roman&quot\;\, serif\;">webinars for various business sectors. These webinars are for local businesses\, by local businesses that are leading the way in establishing additional protocols for their respective industries.&nbsp\;The webinars will also include health and public safety leaders sharing the minimum requirements to be in compliance with the re-opening orders based on your industry sector.<br />\nThis program is FREE and available for all Meridian based businesses to participate.</span></div>\n\n<div style="color: rgb(46\, 47\, 47)\; font-family: Verdana\, Geneva\, sans-serif\; font-size: 14px\; background-color: rgb(255\, 255\, 255)\;"><span style="font-size: 16px\; color: rgb(0\, 0\, 0)\; font-family: Cambria\, Georgia\, &quot\;Times New Roman&quot\;\, serif\;">Join us for our first webinar as we launch the program and share information on the schedule for fast approaching industry specific webinars as well as how you can communicate your commitment to safety to your employees and customers.</span></div>\n\n<div align="center" style="color: rgb(46\, 47\, 47)\; font-family: Verdana\, Geneva\, sans-serif\; font-size: 14px\; background-color: rgb(255\, 255\, 255)\; text-align: center\;"><span style="font-size: 18px\; font-weight: bold\; font-family: Cambria\, Georgia\, &quot\;Times New Roman&quot\;\, serif\;">Keep Meridian Healthy &amp\; Open for Business</span></div>\n\n<div align="center" style="color: rgb(46\, 47\, 47)\; font-family: Verdana\, Geneva\, sans-serif\; font-size: 14px\; background-color: rgb(255\, 255\, 255)\; text-align: center\;"><span style="font-size: 18px\; font-weight: bold\; font-family: Cambria\, Georgia\, &quot\;Times New Roman&quot\;\, serif\;">Friday\, May 1\, 2020</span></div>\n\n<div align="center" style="color: rgb(46\, 47\, 47)\; font-family: Verdana\, Geneva\, sans-serif\; font-size: 14px\; background-color: rgb(255\, 255\, 255)\; text-align: center\;"><span style="font-size: 18px\; font-weight: bold\; font-family: Cambria\, Georgia\, &quot\;Times New Roman&quot\;\, serif\;">2:00 p.m. - 3:15 p.m.</span></div>\n\n<div align="center" style="color: rgb(46\, 47\, 47)\; font-family: Verdana\, Geneva\, sans-serif\; font-size: 14px\; background-color: rgb(255\, 255\, 255)\; text-align: center\;"><span style="font-size: 16px\; font-family: Cambria\, Georgia\, &quot\;Times New Roman&quot\;\, serif\;">GoToMeeting Webinar -&nbsp\;</span><a href="https://business.meridianchamber.org/events/details/keep-meridian-healthy-open-for-business-campaign-launch-12834" rel="noopener noreferrer" style="font-size: 16px\; font-family: Cambria\, Georgia\, &quot\;Times New Roman&quot\;\, serif\; color: rgb(66\, 139\, 202)\;" target="_blank">Register for access information</a></div>\n</div>\n
LOCATION:GoToMeeting Webinar
UID:e.1357.12834
SEQUENCE:3
DTSTAMP:20260423T174112Z
URL:https://business.meridianchamber.org/events/details/keep-meridian-healthy-open-for-business-campaign-launch-12834
END:VEVENT

END:VCALENDAR
