BEGIN:VCALENDAR
VERSION:2.0
PRODID:-//ChamberMaster//Event Calendar 2.0//EN
METHOD:PUBLISH
X-PUBLISHED-TTL:P3D
REFRESH-INTERVAL:P3D
CALSCALE:GREGORIAN
BEGIN:VEVENT
DTSTART:20260724T010000Z
DTEND:20260724T050000Z
X-MICROSOFT-CDO-ALLDAYEVENT:FALSE
SUMMARY:Koe Wetzel
DESCRIPTION:Koe Wetzel \n\nThe Night Champion World Tour \n\nwith special guests Ole 60\, Bayker Blankenship\, & Logan Jahnke \n\nFord Idaho Center Amphitheater \n\nJuly 23\, 2026 time TBD
X-ALT-DESC;FMTTYPE=text/html:Koe Wetzel&nbsp\;<br />\nThe Night Champion World Tour&nbsp\;<br />\nwith special guests Ole 60\, Bayker Blankenship\, &amp\; Logan Jahnke&nbsp\;<br />\nFord Idaho Center Amphitheater&nbsp\;<br />\nJuly 23\, 2026 time TBD&nbsp\;<br />\n&nbsp\;
LOCATION:Ford Idaho Center 16200 Idaho Center Blvd\, Nampa\, Idaho 83687
UID:e.1357.18746
SEQUENCE:3
DTSTAMP:20260422T140704Z
URL:https://business.meridianchamber.org/events/details/koe-wetzel-18746
END:VEVENT

END:VCALENDAR
