BEGIN:VCALENDAR
VERSION:2.0
PRODID:-//ChamberMaster//Event Calendar 2.0//EN
METHOD:PUBLISH
X-PUBLISHED-TTL:P3D
REFRESH-INTERVAL:P3D
CALSCALE:GREGORIAN
BEGIN:VEVENT
DTSTART:20270930T213000Z
DTEND:20270930T223000Z
X-MICROSOFT-CDO-ALLDAYEVENT:FALSE
SUMMARY:Connect 4 Growth - Meridian Chamber Lead Group
DESCRIPTION:A seasoned circle for sharp minds and thoughtful solutions. This is where professionals with experience gather to cut through complexity. Whether you're navigating a tricky client situation\, facing a team challenge\, or wrestling with a tough decision-bring it here! We're a mature\, no-drama\, judgement free group focused on real world problem solving. Practical. Strategic. Supportive. Bring the issue. We'll bring the insight.\nMC Leads Groups offer a powerful way to build your network\, gain meaningful referrals\, and grow your business alongside like-minded professionals.\n\nFacilitator: Tim & Robin Zadora with Link Wealth Management\n\nReady to join? Contact Heather Hill\, Director of Member Services for information on joining and meeting location at 208.577.2442\, or email membership@meridianchamber.org\n\n\n\nInfo on Leads Groups
X-ALT-DESC;FMTTYPE=text/html:A seasoned circle for sharp minds and thoughtful solutions. This is where professionals with experience gather to cut through complexity. Whether you&rsquo\;re navigating a tricky client situation\, facing a team challenge\, or wrestling with a tough decision-bring it here! We&rsquo\;re a mature\, no-drama\, judgement free group focused on real world problem solving. Practical. Strategic. Supportive. Bring the issue. We&rsquo\;ll bring the insight.\n<p>MC Leads Groups offer a powerful way to build your network\, gain meaningful referrals\, and grow your business alongside like-minded professionals.<br />\nFacilitator: Tim &amp\; <a href="https://www.linkedin.com/in/robin-zadzora-611ba38a/">Robin Zadora</a> with <a href="https://www.linkwealthmgt.com/">Link Wealth Management</a></p>\n\n<p>Ready to join? Contact Heather Hill\, Director of Member Services for information on joining and meeting location&nbsp\;at 208.577.2442\, or email membership@meridianchamber.org<br />\n<br />\n<a href="https://meridianchamber.org/mc-leads/">Info on Leads Groups</a></p>\n
LOCATION:Meridian Email our Director of Member Services for the location: membership@meridianchamber.org
UID:e.1357.16387
SEQUENCE:3
DTSTAMP:20260421T113644Z
URL:https://business.meridianchamber.org/events/details/leads-group-4-meridian-chamber-leads-group-09-30-2027-16387
END:VEVENT

END:VCALENDAR
