BEGIN:VCALENDAR
VERSION:2.0
PRODID:-//ChamberMaster//Event Calendar 2.0//EN
METHOD:PUBLISH
X-PUBLISHED-TTL:P3D
REFRESH-INTERVAL:P3D
CALSCALE:GREGORIAN
BEGIN:VEVENT
DTSTART:20261117T180000Z
DTEND:20261117T200000Z
X-MICROSOFT-CDO-ALLDAYEVENT:FALSE
SUMMARY:Man & Woman of the Year Awards Luncheon 2026
DESCRIPTION:
X-ALT-DESC;FMTTYPE=text/html:
LOCATION:West Ada School District White Cloud Auditorium
UID:e.1357.18042
SEQUENCE:3
DTSTAMP:20260420T154155Z
URL:https://business.meridianchamber.org/events/details/man-woman-of-the-year-awards-luncheon-2026-18042
END:VEVENT

END:VCALENDAR
