BEGIN:VCALENDAR
VERSION:2.0
PRODID:-//ChamberMaster//Event Calendar 2.0//EN
METHOD:PUBLISH
X-PUBLISHED-TTL:P3D
REFRESH-INTERVAL:P3D
CALSCALE:GREGORIAN
BEGIN:VEVENT
DTSTART:20261107T010000Z
DTEND:20261107T050000Z
X-MICROSOFT-CDO-ALLDAYEVENT:FALSE
SUMMARY:Meridian Chamber 2026 Annual Gala: Casino Night!
DESCRIPTION:
X-ALT-DESC;FMTTYPE=text/html:
LOCATION:
UID:e.1357.18041
SEQUENCE:3
DTSTAMP:20260420T154059Z
URL:https://business.meridianchamber.org/events/details/meridian-chamber-2026-annual-gala-casino-night-18041
END:VEVENT

END:VCALENDAR
