BEGIN:VCALENDAR
VERSION:2.0
PRODID:-//ChamberMaster//Event Calendar 2.0//EN
METHOD:PUBLISH
X-PUBLISHED-TTL:P3D
REFRESH-INTERVAL:P3D
CALSCALE:GREGORIAN
BEGIN:VEVENT
DTSTART:20181106T190000Z
DTEND:20181106T203000Z
X-MICROSOFT-CDO-ALLDAYEVENT:FALSE
SUMMARY:Meridian Chamber Luncheon - Speaker Series
DESCRIPTION:Please join us for our monthly speaker series luncheon featuring:  \n\n\n\nPresenting Sponsor: West Ada Foundation\n\nWe will be hearing from West Ada School District on their Workforce Development/Career & Technical Education (CTE) Programs designed to help students learn the technical and professional skills\, knowledge and attitudes necessary to succeed in today's workforce.\n\n\n\nCatering by: Panera\n\n\n\n\n\nAvailable Sponsorship Opportunities: \n\nFood & Beverage Sponsor - $200 (limited to 1 per luncheon) Company logo on pre/post event publicity. Recognition during event.
X-ALT-DESC;FMTTYPE=text/html:<span style="font-size: 14px\;"><span style="font-family: verdana\;">Please join us for our monthly speaker series luncheon featuring:&nbsp\;&nbsp\;</span></span><br />\n<br />\n<span style="font-size: 14px\;"><span style="font-family: verdana\;">Presenting Sponsor: West Ada Foundation<br />\nWe will be hearing from West Ada School District on their Workforce Development/Career &amp\; Technical Education (CTE) Programs designed to help students learn the technical and professional skills\, knowledge and attitudes necessary to succeed in today&#39\;s workforce.</span></span><br />\n<br />\n<span style="font-size: 14px\;"><span style="font-family: verdana\;">Catering by: Panera</span></span><br />\n<br />\n<br />\nAvailable&nbsp\;Sponsorship Opportunities:&nbsp\;<br />\nFood &amp\; Beverage Sponsor - $200 (limited to 1 per luncheon) Company logo on pre/post event publicity. Recognition during event.&nbsp\;<br />\n&nbsp\;
LOCATION:West Ada School District - Auditorium 1303 E Central Drive\, Meridian (Eastern most entrance to the West Ada Campus). Need a parking permit? Email info@meridianchamber.org or pick one up the day of the event.
UID:e.1357.11456
SEQUENCE:3
DTSTAMP:20260426T010657Z
URL:https://business.meridianchamber.org/events/details/meridian-chamber-luncheon-speaker-series-11456
END:VEVENT

END:VCALENDAR
