BEGIN:VCALENDAR
VERSION:2.0
PRODID:-//ChamberMaster//Event Calendar 2.0//EN
METHOD:PUBLISH
X-PUBLISHED-TTL:P3D
REFRESH-INTERVAL:P3D
CALSCALE:GREGORIAN
BEGIN:VEVENT
DTSTART:20181102T000000Z
DTEND:20181102T040000Z
X-MICROSOFT-CDO-ALLDAYEVENT:FALSE
SUMMARY:Meridian Chamber of Commerce Annual Gala
DESCRIPTION:Save the date! The Meridian Chamber of Commerce Annual Installation Banquet & Gala will take place on Thursday\, November 1st at 6:00 pm. Join us at the Courtyard Marriott as we celebrate 60 years of the Meridian Chamber\, including a special awards ceremony recognizing our elite list of members who have been with us for 50+ years! Come welcome our newly inducted Board of Directors for 2019. \n\n \n\nThis year we will have the pleasure of hosting a special guest speaker\, Viliami Tuivai (Coach V) former Boise State football coach\, and world renowned motivational speaker.\n\n\n\n**A portion of the nights proceeds from the silent auction will benefit the Meridian Chamber of Commerce Scholarship Fund**
X-ALT-DESC;FMTTYPE=text/html:<div style="color: rgb(54\, 73\, 95)\; font-family: Arial\, Verdana\, Helvetica\, sans-serif\; font-size: 14px\; white-space: pre-wrap\; text-align: center\;"><span style="font-family: &quot\;Book Antiqua&quot\;\, Palatino\, &quot\;Palatino Linotype&quot\;\, &quot\;Palatino LT STD&quot\;\, Georgia\, serif\; font-size: 18px\;">Save the date! The Meridian Chamber of Commerce Annual Installation Banquet &amp\; Gala will take place on Thursday\, November 1st at 6:00 pm. Join us at the Courtyard Marriott as we celebrate 60 years of the Meridian Chamber\, including a special awards ceremony recognizing our elite list of members who have been with us for 50+ years! Come welcome our newly inducted Board of Directors for 2019. </span></div>\n\n<div style="color: rgb(54\, 73\, 95)\; font-family: Arial\, Verdana\, Helvetica\, sans-serif\; font-size: 14px\; white-space: pre-wrap\; text-align: center\;">&nbsp\;</div>\n\n<div style="color: rgb(54\, 73\, 95)\; font-family: Arial\, Verdana\, Helvetica\, sans-serif\; font-size: 14px\; white-space: pre-wrap\; text-align: center\;"><span style="font-family: &quot\;Book Antiqua&quot\;\, Palatino\, &quot\;Palatino Linotype&quot\;\, &quot\;Palatino LT STD&quot\;\, Georgia\, serif\; font-size: 18px\;">This year we will have the pleasure of hosting a special guest speaker\, Viliami Tuivai (Coach V) former Boise State football coach\, and world renowned motivational speaker.<br />\n<br />\n**A portion of the nights proceeds from the silent auction will benefit the Meridian Chamber of Commerce Scholarship Fund**</span></div>\n
LOCATION:Courtyard Marriott 1789 S Eagle Road Meridian\, ID
UID:e.1357.11455
SEQUENCE:3
DTSTAMP:20260425T230811Z
URL:https://business.meridianchamber.org/events/details/meridian-chamber-of-commerce-annual-gala-11455
END:VEVENT

END:VCALENDAR
