BEGIN:VCALENDAR
VERSION:2.0
PRODID:-//ChamberMaster//Event Calendar 2.0//EN
METHOD:PUBLISH
X-PUBLISHED-TTL:P3D
REFRESH-INTERVAL:P3D
CALSCALE:GREGORIAN
BEGIN:VEVENT
DTSTART:20261112T220000Z
DTEND:20261112T233000Z
X-MICROSOFT-CDO-ALLDAYEVENT:FALSE
SUMMARY:Meridian NIA Monthly Networking Meeting
DESCRIPTION:Hey Local Idaho Business Owners & Pros!\n\n\n\nWhy not join us for our Meridian NIA Monthly Networking Meetings. \n\n\n\nWe connect\, share\, and grow our businesses\, and we have fun doing it!\n\n\n\nWe've got three awesome NIA groups that meet once a month:\n\n\n\nEach group has "one spot" per business type\, and we currently have some great openings just for you!\n\n\n\n?? Call or DM me for location and RSVP at 208-546-8558. Thanks\, Scott Marker
X-ALT-DESC;FMTTYPE=text/html:Hey Local Idaho Business Owners &amp\; Pros!<br />\n<br />\nWhy not join us for our Meridian NIA Monthly Networking Meetings.&nbsp\;<br />\n<br />\nWe connect\, share\, and grow our businesses\, and we have fun doing it!<br />\n<br />\nWe&rsquo\;ve got three awesome NIA groups that meet once a month:<br />\n<br />\nEach group has &quot\;one spot&quot\; per business type\, and we currently have some great openings just for you!<br />\n<br />\n?? Call or DM me for location and RSVP at 208-546-8558. Thanks\, Scott Marker
LOCATION:Meridian\, Idaho 83646 (RSVP required) Call or DM Scott Marker for location and to RSVP. 208-546-8558
UID:e.1357.18497
SEQUENCE:3
DTSTAMP:20260420T154114Z
URL:https://business.meridianchamber.org/events/details/meridian-nia-monthly-networking-meeting-11-12-2026-18497
END:VEVENT

END:VCALENDAR
