BEGIN:VCALENDAR
VERSION:2.0
PRODID:-//ChamberMaster//Event Calendar 2.0//EN
METHOD:PUBLISH
X-PUBLISHED-TTL:P3D
REFRESH-INTERVAL:P3D
CALSCALE:GREGORIAN
BEGIN:VEVENT
DTSTART:20260409T203000Z
DTEND:20260409T213000Z
X-MICROSOFT-CDO-ALLDAYEVENT:FALSE
SUMMARY:Movers and Shakers - Meridian Chamber Lead Group
DESCRIPTION:We're a community of driven business owners coming together to connect\, collaborate\, and help each other grow. Our mission is to support one another's success\, build meaningful relationships\, and stay engaged in the vibrant Meridian business community. Join us on the 2nd Thursday of each month from 2:30 to 3:30 pm to network\, share ideas\, and make things happen.\nMC Lead Groups offer a powerful way to build your network\, gain meaningful referrals\, and grow your business alongside like-minded professionals.\n\nFacilitator: Amy Lind \n\nReady to join? Contact Heather Hill\, Director of Member Services for information on joining and meeting location at 208.577.2442\, or email membership@meridianchamber.org\n\n\n\nInfo on Lead Groups
X-ALT-DESC;FMTTYPE=text/html:We&rsquo\;re a community of driven business owners coming together to connect\, collaborate\, and help each other grow. Our mission is to support one another&rsquo\;s success\, build meaningful relationships\, and stay engaged in the vibrant Meridian business community. Join us on the 2nd Thursday of each month from 2:30 to 3:30 pm to network\, share ideas\, and make things happen.\n<p>MC Lead&nbsp\;Groups offer a powerful way to build your network\, gain meaningful referrals\, and grow your business alongside like-minded professionals.<br />\nFacilitator:&nbsp\;<a href="https://www.linkedin.com/in/amy-lind-1066b05b/" style="box-sizing: border-box\; transition: color 0.1s ease-in-out\, background-color 0.1s ease-in-out\; text-decoration-line: none\; color: rgb(0\, 58\, 140)\;">Amy Lind</a>&nbsp\;</p>\n\n<p>Ready to join? Contact Heather Hill\, Director of Member Services for information on joining and meeting location&nbsp\;at 208.577.2442\, or email membership@meridianchamber.org<br />\n<br />\n<a href="https://meridianchamber.org/mc-leads/">Info on Lead&nbsp\;Groups</a></p>\n
LOCATION:
UID:e.1357.16199
SEQUENCE:3
DTSTAMP:20260419T145511Z
URL:https://business.meridianchamber.org/events/details/movers-and-shakers-meridian-chamber-leads-group-04-09-2026-16199
END:VEVENT

END:VCALENDAR
