BEGIN:VCALENDAR
VERSION:2.0
PRODID:-//ChamberMaster//Event Calendar 2.0//EN
METHOD:PUBLISH
X-PUBLISHED-TTL:P3D
REFRESH-INTERVAL:P3D
CALSCALE:GREGORIAN
BEGIN:VEVENT
DTSTART:20260724T013000Z
DTEND:20260726T040000Z
X-MICROSOFT-CDO-ALLDAYEVENT:FALSE
SUMMARY:Music Theater of Idaho presents Phantom of the Opera
DESCRIPTION:Music Theater of Idaho presents Phantom of the Opera\n\nNampa Civic Center\n\nJuly 23-25  | 7:30 pm\n\n\n\nAndrew Lloyd Webber's musical version of The Phantom of the Opera is one of the most successful pieces of entertainment of all time\, produced in any media.\n\nThe Phantom of the Opera tells the story of a masked figure who lurks beneath the catacombs of the Paris Opera House\, exercising a reign of terror over all who inhabit it. He falls madly in love with an innocent young soprano\, Christine\, and devotes himself to creating a new star by nurturing her extraordinary talents and by employing all of the devious methods at his command.\n\nAndrew Lloyd Webber's enthralling score includes "Think of Me\," "Angel of Music\," "Music of the Night\," "All I Ask of You\," "Masquerade" and the title song.
X-ALT-DESC;FMTTYPE=text/html:Music Theater of Idaho presents Phantom of the Opera<br />\nNampa Civic Center<br />\nJuly 23-25&nbsp\; | 7:30 pm<br />\n<br />\nAndrew Lloyd Webber&rsquo\;s musical version of The Phantom of the Opera is one of the most successful pieces of entertainment of all time\, produced in any media.<br />\nThe Phantom of the Opera tells the story of a masked figure who lurks beneath the catacombs of the Paris Opera House\, exercising a reign of terror over all who inhabit it. He falls madly in love with an innocent young soprano\, Christine\, and devotes himself to creating a new star by nurturing her extraordinary talents and by employing all of the devious methods at his command.<br />\nAndrew Lloyd Webber&rsquo\;s enthralling score includes &ldquo\;Think of Me\,&rdquo\; &ldquo\;Angel of Music\,&rdquo\; &ldquo\;Music of the Night\,&rdquo\; &ldquo\;All I Ask of You\,&rdquo\; &ldquo\;Masquerade&rdquo\; and the title song.
LOCATION:Nampa Civic Center 311 3rd St S\, Nampa\, ID 83651
UID:e.1357.18446
SEQUENCE:3
DTSTAMP:20260422T085622Z
URL:https://business.meridianchamber.org/events/details/music-theater-of-idaho-presents-phantom-of-the-opera-18446
END:VEVENT

END:VCALENDAR
