BEGIN:VCALENDAR
VERSION:2.0
PRODID:-//ChamberMaster//Event Calendar 2.0//EN
METHOD:PUBLISH
X-PUBLISHED-TTL:P3D
REFRESH-INTERVAL:P3D
CALSCALE:GREGORIAN
BEGIN:VEVENT
DTSTART:20260613T143000Z
DTEND:20260613T213000Z
X-MICROSOFT-CDO-ALLDAYEVENT:FALSE
SUMMARY:NeighborWorks® Boise's Homebuyer Education Class
DESCRIPTION:NeighborWorks  Boise's Homebuyer Education course is ideal for homebuyers who will be purchasing within one year or are currently in escrow. Key information on budgeting\, credit lending\, real estate\, inspections\, insurance\, and down payment programs are presented. The monthly 6-hour course is held in-person. The course is led by a HUD-certified counselor and industry professionals. HOW TO REGISTER: Visit Finally Home!  Website (Click Here: https://www.finallyhome.org/en/student-registration/)
X-ALT-DESC;FMTTYPE=text/html:NeighborWorks&reg\; Boise&#39\;s Homebuyer Education course is ideal for homebuyers who will be purchasing within one year or are currently in escrow. Key information on budgeting\, credit lending\, real estate\, inspections\, insurance\, and down payment programs are presented. The monthly 6-hour course is held in-person. The course is led by a HUD-certified counselor and industry professionals. HOW TO REGISTER: Visit Finally Home!&reg\; Website (Click Here: https://www.finallyhome.org/en/student-registration/)
LOCATION:NeighborWorks Boise's Office
UID:e.1357.18858
SEQUENCE:3
DTSTAMP:20260420T120513Z
URL:https://business.meridianchamber.org/events/details/neighborworks-boise-s-homebuyer-education-class-06-13-2026-18858
END:VEVENT

END:VCALENDAR
