BEGIN:VCALENDAR
VERSION:2.0
PRODID:-//ChamberMaster//Event Calendar 2.0//EN
METHOD:PUBLISH
X-PUBLISHED-TTL:P3D
REFRESH-INTERVAL:P3D
CALSCALE:GREGORIAN
BEGIN:VEVENT
DTSTART:20260514T133000Z
DTEND:20260514T150000Z
X-MICROSOFT-CDO-ALLDAYEVENT:FALSE
SUMMARY:Networking Breakfast- Meridian Library District
DESCRIPTION:Join us for a networking breakfast every 2nd Thursday of each month from 7:30 a.m. to 9:00 a.m. at our unBound branch. Share insights\, exchange ideas\, and forge valuable connections in a relaxed and welcoming atmosphere. Explore our amazing facilities and see what kind of resources are available for personal use\, or for your small business. Agenda: Food & beverage mingle Speaker 8-8:15 Introductions (optional) Referral Round More networking Don't miss out on this chance to expand your network and make new connections!
X-ALT-DESC;FMTTYPE=text/html:Join us for a networking breakfast every 2nd Thursday of each month from 7:30 a.m. to 9:00 a.m. at our unBound branch. Share insights\, exchange ideas\, and forge valuable connections in a relaxed and welcoming atmosphere. Explore our amazing facilities and see what kind of resources are available for personal use\, or for your small business. Agenda: Food &amp\; beverage mingle Speaker 8-8:15 Introductions (optional) Referral Round More networking Don&#39\;t miss out on this chance to expand your network and make new connections!
LOCATION:Meridian Library unBound 722 E. 2nd St. Meridian\, ID 83642
UID:e.1357.18531
SEQUENCE:3
DTSTAMP:20260422T140750Z
URL:https://business.meridianchamber.org/events/details/networking-breakfast-meridian-library-district-05-14-2026-18531
END:VEVENT

END:VCALENDAR
