BEGIN:VCALENDAR
VERSION:2.0
PRODID:-//ChamberMaster//Event Calendar 2.0//EN
METHOD:PUBLISH
X-PUBLISHED-TTL:P3D
REFRESH-INTERVAL:P3D
CALSCALE:GREGORIAN
BEGIN:VEVENT
DTSTART:20260207T180000Z
DTEND:20260208T000000Z
X-MICROSOFT-CDO-ALLDAYEVENT:FALSE
SUMMARY:Oola Bowls Chinden Grand Opening
DESCRIPTION:Join us for the grand opening of Oola Bowls Chinden!  At Oola Bowls\, we believe that food should fuel your body\, come try our menu that is crafted with functional foods\, vitamins\, minerals\, antioxidants and other beneficial nutrients!
X-ALT-DESC;FMTTYPE=text/html:Join us for the grand opening of Oola Bowls Chinden!&nbsp\;&nbsp\;At Oola Bowls\, we believe that food should fuel your body\, come try our menu that is crafted with functional foods\, vitamins\, minerals\, antioxidants and other beneficial nutrients!&nbsp\;
LOCATION:1245 W Chinden Blvd Ste 100 Meridian\, ID 83646
UID:e.1357.18050
SEQUENCE:3
DTSTAMP:20260419T120810Z
URL:https://business.meridianchamber.org/events/details/oola-bowls-chinden-grand-opening-18050
END:VEVENT

END:VCALENDAR
