BEGIN:VCALENDAR
VERSION:2.0
PRODID:-//ChamberMaster//Event Calendar 2.0//EN
METHOD:PUBLISH
X-PUBLISHED-TTL:P3D
REFRESH-INTERVAL:P3D
CALSCALE:GREGORIAN
BEGIN:VEVENT
DTSTART:20181029T173000Z
DTEND:20181029T183000Z
X-MICROSOFT-CDO-ALLDAYEVENT:FALSE
SUMMARY:Paulette Jordan Meet & Mingle
DESCRIPTION:Come and meet Democratic nominee for Governor of Idaho\, Paulette Jordan during this meet & greet event. Light refreshments served.
X-ALT-DESC;FMTTYPE=text/html:Come and meet Democratic nominee for Governor of Idaho\, Paulette Jordan during this meet &amp\; greet event. Light refreshments served.&nbsp\;
LOCATION:Meridian Chamber of Commerce Office 215 E Franklin Road
UID:e.1357.11572
SEQUENCE:3
DTSTAMP:20260425T230813Z
URL:https://business.meridianchamber.org/events/details/paulette-jordan-meet-mingle-11572
END:VEVENT

END:VCALENDAR
