BEGIN:VCALENDAR
VERSION:2.0
PRODID:-//ChamberMaster//Event Calendar 2.0//EN
METHOD:PUBLISH
X-PUBLISHED-TTL:P3D
REFRESH-INTERVAL:P3D
CALSCALE:GREGORIAN
BEGIN:VEVENT
DTSTART:20191114T013000Z
DTEND:20191114T030000Z
X-MICROSOFT-CDO-ALLDAYEVENT:FALSE
SUMMARY:Primitive Reflexes
DESCRIPTION:Toe walkers\, messy eaters\, chronic anxiety\, attention problems\, poor posture and many more things can be caused by retained primitive reflexes! Find out what these are and how to overcome them!
X-ALT-DESC;FMTTYPE=text/html:Toe walkers\, messy eaters\, chronic anxiety\, attention problems\, poor posture and many more things can be caused by retained primitive reflexes! Find out what these are and how to overcome them!
LOCATION:The Karlfeldt Center 2921 S. Meridian Rd. Meridian\, ID 83642
UID:e.1357.12238
SEQUENCE:3
DTSTAMP:20260421T144004Z
URL:https://business.meridianchamber.org/events/details/primitive-reflexes-12238
END:VEVENT

END:VCALENDAR
