BEGIN:VCALENDAR
VERSION:2.0
PRODID:-//ChamberMaster//Event Calendar 2.0//EN
METHOD:PUBLISH
X-PUBLISHED-TTL:P3D
REFRESH-INTERVAL:P3D
CALSCALE:GREGORIAN
BEGIN:VEVENT
DTSTART:20270922T140000Z
DTEND:20270922T150000Z
X-MICROSOFT-CDO-ALLDAYEVENT:FALSE
SUMMARY:Problem SOLVers - Meridian Chamber Lead Group
DESCRIPTION:We are a group of local business owners and services providers who get together to provide updates from our respective industries\, share wins/losses/challenges\, provide each other with valuable connections or referrals\, and hear from valuable speakers. The vibe has been described as "low key\, relaxed and fun".\nFacilitator: Kayla McMichael with Marsh McLennan Agency\n\n\n\nReady to join? Contact Heather Hill\, Director of Member Services for information on joining and meeting location at 208.577.2442\, or email membership@meridianchamber.org\n\n\n\nInfo on Lead Groups
X-ALT-DESC;FMTTYPE=text/html:We are a group of local business owners and services providers who get together to provide updates from our respective industries\, share wins/losses/challenges\, provide each other with valuable connections or referrals\, and hear from valuable speakers. The vibe has been described as &ldquo\;low key\, relaxed and fun&rdquo\;.\n<div role="presentation">Facilitator: Kayla McMichael with&nbsp\;<!--StartFragment--><span data-olk-copy-source="MessageBody">Marsh McLennan Agency</span><br />\n<br />\nReady to join? Contact Heather Hill\, Director of Member Services for information on joining and meeting location&nbsp\;at 208.577.2442\, or email membership@meridianchamber.org<br />\n<br />\n<a href="https://meridianchamber.org/mc-leads/">Info on Lead&nbsp\;Groups</a></div>\n
LOCATION:Meridian\, Idaho
UID:e.1357.15831
SEQUENCE:3
DTSTAMP:20260421T113326Z
URL:https://business.meridianchamber.org/events/details/problem-solvers-meridian-chamber-lead-group-09-22-2027-15831
END:VEVENT

END:VCALENDAR
