BEGIN:VCALENDAR
VERSION:2.0
PRODID:-//ChamberMaster//Event Calendar 2.0//EN
METHOD:PUBLISH
X-PUBLISHED-TTL:P3D
REFRESH-INTERVAL:P3D
CALSCALE:GREGORIAN
BEGIN:VEVENT
DTSTART:20260528T220000Z
DTEND:20260528T224000Z
X-MICROSOFT-CDO-ALLDAYEVENT:FALSE
SUMMARY:Ribbon Cutting: Hayden Homes - Pebblebrook Community
DESCRIPTION:The Meridian Chamber of Commerce invites you to celebrate the Ribbon Cutting & Grand Opening of Hayden Homes   Pebblebrook Community!\n\n \n\n  Location:\n\n313 W Gleason St.\, Meridian\, ID 83646\n\n \n\n  Date & Time:\n\nMay 28 at 4:00 PM\n\n \n\nHayden Homes is a family owned home builder excited to be part of Meridian's growing and flourishing community. Join us as we celebrate the grand opening of their Pebblebrook Community and this exciting milestone.\n\n \n\nEnjoy free refreshments and beverages while connecting with the Hayden Homes team and fellow community members. Attendees will also have the opportunity to enter a giveaway featuring a gift card to a local Meridian restaurant and a wine basket.\n\n \n\nWe look forward to celebrating with you!
X-ALT-DESC;FMTTYPE=text/html:<div data-olk-copy-source="CalendarCompose">The Meridian Chamber of Commerce invites you to celebrate the Ribbon Cutting &amp\; Grand Opening of Hayden Homes &ndash\; Pebblebrook Community!<br />\n&nbsp\;</div>\n\n<div>&#128205\; Location:<br />\n313 W Gleason St.\, Meridian\, ID 83646<br />\n&nbsp\;</div>\n\n<div>&#128197\; Date &amp\; Time:<br />\nMay 28 at 4:00 PM<br />\n&nbsp\;</div>\n\n<div>Hayden Homes is a family owned home builder excited to be part of Meridian&rsquo\;s growing and flourishing community. Join us as we celebrate the grand opening of their Pebblebrook Community and this exciting milestone.<br />\n&nbsp\;</div>\n\n<div>Enjoy free refreshments and beverages while connecting with the Hayden Homes team and fellow community members. Attendees will also have the opportunity to enter a giveaway featuring a gift card to a local Meridian restaurant and a wine basket.<br />\n&nbsp\;</div>\n\n<div>We look forward to celebrating with you!</div>\n
LOCATION:313 W Gleason St.\, Meridian\, ID 83646
UID:e.1357.18872
SEQUENCE:3
DTSTAMP:20260422T140521Z
URL:https://business.meridianchamber.org/events/details/ribbon-cutting-hayden-homes-pebblebrook-community-18872
END:VEVENT

END:VCALENDAR
