BEGIN:VCALENDAR
VERSION:2.0
PRODID:-//ChamberMaster//Event Calendar 2.0//EN
METHOD:PUBLISH
X-PUBLISHED-TTL:P3D
REFRESH-INTERVAL:P3D
CALSCALE:GREGORIAN
BEGIN:VEVENT
DTSTART:20210730T170000Z
DTEND:20210730T180000Z
X-MICROSOFT-CDO-ALLDAYEVENT:FALSE
SUMMARY:Ribbon Cutting - Market Optical
DESCRIPTION:We are a small group of fine eyewear boutiques with three locations in the Seattle area and one store in Meridian\, Idaho. We serve a discriminating customer and fabricate on-site in each store.
X-ALT-DESC;FMTTYPE=text/html:We are a small group of fine eyewear boutiques with three locations in the Seattle area and one store in Meridian\, Idaho. We serve a discriminating customer and fabricate on-site in each store.
LOCATION:3540 E. Longwing Lane Meridian\, ID 83642
UID:e.1357.13613
SEQUENCE:3
DTSTAMP:20260420T230903Z
URL:https://business.meridianchamber.org/events/details/ribbon-cutting-market-optical-13613
END:VEVENT

END:VCALENDAR
