BEGIN:VCALENDAR
VERSION:2.0
PRODID:-//ChamberMaster//Event Calendar 2.0//EN
METHOD:PUBLISH
X-PUBLISHED-TTL:P3D
REFRESH-INTERVAL:P3D
CALSCALE:GREGORIAN
BEGIN:VEVENT
DTSTART:20260224T180000Z
DTEND:20260224T184000Z
X-MICROSOFT-CDO-ALLDAYEVENT:FALSE
SUMMARY:Ribbon Cutting | Northpoint Recovery
DESCRIPTION:Ribbon Cutting Invitation\n\nFrom the Meridian Chamber of Commerce\n\nThe Meridian Chamber of Commerce is delighted to invite you to a ribbon cutting ceremony celebrating Northpoint Recovery on February 24 at 11:00 AM. The event will take place at 9292 W Barnes Dr\, Boise\, ID 83709.\n\nNorthpoint Recovery provides adult mental health and substance use disorder treatment\, and this occasion marks the opening of their first Mental Health Primary Facility a significant milestone in expanding their services to the community.\n\nJoin us as we welcome Northpoint Recovery to their new location and celebrate this important step in their continued commitment to supporting the well being of individuals and families throughout our region.
X-ALT-DESC;FMTTYPE=text/html:<div>Ribbon Cutting Invitation</div>\n\n<div>From the Meridian Chamber of Commerce</div>\n\n<div>The Meridian Chamber of Commerce is delighted to invite you to a ribbon cutting ceremony celebrating Northpoint Recovery&nbsp\;on February 24 at 11:00 AM. The event will take place at 9292 W Barnes Dr\, Boise\, ID 83709.</div>\n\n<div>Northpoint Recovery provides adult mental health and substance use disorder treatment\, and this occasion marks the opening of their first Mental Health Primary Facility&mdash\;a significant milestone in expanding their services to the community.</div>\n\n<div>Join us as we welcome Northpoint Recovery to their new location and celebrate this important step in their continued commitment to supporting the well&#8209\;being of individuals and families throughout our region.</div>\n
LOCATION:9292 W Barnes Dr\, Boise\, ID 83709
UID:e.1357.18273
SEQUENCE:3
DTSTAMP:20260421T091838Z
URL:https://business.meridianchamber.org/events/details/ribbon-cutting-northpoint-recovery-18273
END:VEVENT

END:VCALENDAR
