BEGIN:VCALENDAR
VERSION:2.0
PRODID:-//ChamberMaster//Event Calendar 2.0//EN
METHOD:PUBLISH
X-PUBLISHED-TTL:P3D
REFRESH-INTERVAL:P3D
CALSCALE:GREGORIAN
BEGIN:VEVENT
DTSTART:20201022T170000Z
DTEND:20201022T190000Z
X-MICROSOFT-CDO-ALLDAYEVENT:FALSE
SUMMARY:Secretos internos para financuiar su negocio™ - Presentado en español
DESCRIPTION:Descubra c mo obtener la financiaci n que necesita para lanzar o expander su negocio. Este taller ofrece una discusi n y revisi n en profundidad de c mo obtener fondos para adquisiciones\, inciar\, expansi n y capital de trabajo. Fuerte  nfasis en el an lisis de los estados financieros\, las proyecciones\, el flujo de caja y la presentaci n exitosa de su solicitud a un prestamista.\n\n \n\nEste taller virtual de dos horas se ofrecer  en espa ol por medio de Skype.\n\n \n\nDiscutiremos c mo:           \n\n	C mo preparar un paquete de pr stamos\, incluyendo un plan de negocios y proyecciones financieras\n	C mo los prestamistas determinan una decisi n de pr stamo y qu  puede hacer al respect\n	Que buscan los inversores al evaluar un acuerdo\n	C mo preparar\, leer y analizar los estado financieros de su empresa\n\n \n\nPara registrarse:\n\nFecha:     Jueves\, Octubre 22\, 2020\n\nHora:       11:00 a.m. a 1:00 p.m.\n\nCosto:      Gratuito\, pero debe registrarse con anticipaci n\n\nLugar:       Sesi n virtual con tecnolog a de Skype\n\nPara Registrarse:      Env e un correo electr nico a utresources@zionsbank.com o llame at 801-844-7900\n\nEnlace de Skype:       Le enviaremos el enlace por correo electr nico a la sesi n de Skype una vez que se registre
X-ALT-DESC;FMTTYPE=text/html:Descubra c<span style="color:#222222\;">&oacute\;</span>mo obtener la financiaci<span style="color:#222222\;">&oacute\;</span>n que necesita para lanzar o expander su negocio. Este taller ofrece una discusi<span style="background:#F8F9FA\;"><span style="color:#222222\;">&oacute\;</span></span>n y revisi<span style="background:#F8F9FA\;"><span style="color:#222222\;">&oacute\;</span></span>n en profundidad de c<span style="background:#F8F9FA\;"><span style="color:#222222\;">&oacute\;</span></span>mo obtener fondos para adquisiciones\, inciar\, expansi<span style="background:#F8F9FA\;"><span style="color:#222222\;">&oacute\;</span></span>n y capital de trabajo. <span style="color:#222222\;">Fuerte &eacute\;nfasis en el an&aacute\;lisis de los estados financieros\, las proyecciones\, el flujo de caja y la presentaci&oacute\;n exitosa de su solicitud a un prestamista.</span><br />\n&nbsp\;<br />\n<strong><span style="color:#222222\;">Este <u>taller virtual</u> de dos horas se ofrecer&aacute\; <u>en espa&ntilde\;ol</u> por medio de Skype.</span></strong><br />\n&nbsp\;<br />\n<strong><span style="color:#222222\;">Discutiremos c&oacute\;mo:&nbsp\;&nbsp\;&nbsp\;&nbsp\;&nbsp\;&nbsp\;&nbsp\;&nbsp\;&nbsp\;&nbsp\; </span></strong>\n<ul>\n	<li style="margin-bottom:0in\;"><span style="color:#222222\;">C&oacute\;mo preparar un paquete de pr&eacute\;stamos\, incluyendo un plan de negocios y proyecciones financieras</span></li>\n	<li style="margin-bottom:0in\;"><span style="color:#222222\;">C</span><span style="background:#F8F9FA\;"><span style="color:#222222\;">&oacute\;</span></span><span style="color:#222222\;">mo los prestamistas determinan una decisi&oacute\;n de pr&eacute\;stamo y qu</span><span style="background:#F8F9FA\;"><span style="color:#222222\;">&eacute\;</span></span><span style="color:#222222\;"> puede hacer al respect</span></li>\n	<li style="margin-bottom:0in\;"><span style="color:#222222\;">Que buscan los inversores al evaluar un acuerdo</span></li>\n	<li style="margin-bottom:0in\;"><span style="color:#222222\;">C&oacute\;mo preparar\, leer y analizar los estado financieros de su empresa</span></li>\n</ul>\n&nbsp\;<br />\n<strong><span style="color:#222222\;">Para registrarse:</span></strong><br />\n<strong><span style="color:#222222\;">Fecha:</span></strong><span style="color:#222222\;">&nbsp\;&nbsp\; &nbsp\;&nbsp\;Jueves\, Octubre 22\, 2020</span><br />\n<strong><span style="color:#222222\;">Hora:</span></strong><span style="color:#222222\;">&nbsp\;&nbsp\;&nbsp\;&nbsp\;&nbsp\;&nbsp\; 11:00 a.m. a 1:00 p.m.</span><br />\n<strong><span style="color:#222222\;">Costo:</span></strong><span style="color:#222222\;">&nbsp\;&nbsp\;&nbsp\;&nbsp\;&nbsp\; Gratuito\, pero debe registrarse con anticipaci&oacute\;n</span><br />\n<strong><span style="color:#222222\;">Lugar:</span></strong><span style="color:#222222\;">&nbsp\;&nbsp\;&nbsp\;&nbsp\;&nbsp\;&nbsp\; Sesi&oacute\;n virtual con tecnolog&iacute\;a de Skype</span><br />\n<strong><span style="color:#222222\;">Para Registrarse:</span></strong><span style="color:#222222\;">&nbsp\;&nbsp\;&nbsp\;&nbsp\;&nbsp\; Env&iacute\;e un correo electr&oacute\;nico a </span><a href="mailto:utresources@zionsbank.com">utresources@zionsbank.com</a><span style="color:#222222\;"> o llame at 801-844-7900</span><br />\n<strong><span style="color:#222222\;">Enlace de Skype:</span></strong><span style="color:#222222\;">&nbsp\;&nbsp\;&nbsp\;&nbsp\;&nbsp\;&nbsp\; Le enviaremos el enlace por correo electr&oacute\;nico a la sesi&oacute\;n de Skype una vez que se registre</span>
LOCATION:Le enviaremos el enlace por correo electr nico a la sesi n de Skype una vez que se registre
UID:e.1357.13201
SEQUENCE:3
DTSTAMP:20260421T121208Z
URL:https://business.meridianchamber.org/events/details/secretos-internos-para-financuiar-su-negocio-presentado-en-espa&#241;ol-13201
END:VEVENT

END:VCALENDAR
