BEGIN:VCALENDAR
VERSION:2.0
PRODID:-//ChamberMaster//Event Calendar 2.0//EN
METHOD:PUBLISH
X-PUBLISHED-TTL:P3D
REFRESH-INTERVAL:P3D
CALSCALE:GREGORIAN
BEGIN:VEVENT
DTSTART:20250614T010000Z
DTEND:20250614T050000Z
X-MICROSOFT-CDO-ALLDAYEVENT:FALSE
SUMMARY:Sparklight Movie Night
DESCRIPTION:Join Meridian Parks and Recreation for Sparklight Movie Nights this summer! Bring your family\, friends\, and neighbors for a fun\, free evening under the stars. Every other Friday\, we'll inflate our giant outdoor movie screen in Settlers Park for a family-friendly film. Arrive early and check out the concession stand for delicious treats and movie snacks. Thanks to local sponsors\, this event is completely free! Don't forget to bring your lawn chairs\, blankets\, and favorite movie companions to enjoy the fresh summer air with us. Movies begin at dusk\, with the screen set up at 7:00 pm. There are plenty of activities in the park to enjoy before the movie starts.
X-ALT-DESC;FMTTYPE=text/html:Join Meridian Parks and Recreation for Sparklight Movie Nights this summer! Bring your family\, friends\, and neighbors for a fun\, free evening under the stars. Every other Friday\, we&rsquo\;ll inflate our giant outdoor movie screen in Settlers Park for a family-friendly film. Arrive early and check out the concession stand for delicious treats and movie snacks. Thanks to local sponsors\, this event is completely free! Don&rsquo\;t forget to bring your lawn chairs\, blankets\, and favorite movie companions to enjoy the fresh summer air with us. Movies begin at dusk\, with the screen set up at 7:00 pm. There are plenty of activities in the park to enjoy before the movie starts.
LOCATION:Settlers Park\, 3245 N Meridian Rd\, Meridian\, ID 83646
UID:e.1357.15650
SEQUENCE:3
DTSTAMP:20260421T235456Z
URL:https://business.meridianchamber.org/events/details/sparklight-movie-night-06-13-2025-15650
END:VEVENT

END:VCALENDAR
