BEGIN:VCALENDAR
VERSION:2.0
PRODID:-//ChamberMaster//Event Calendar 2.0//EN
METHOD:PUBLISH
X-PUBLISHED-TTL:P3D
REFRESH-INTERVAL:P3D
CALSCALE:GREGORIAN
BEGIN:VEVENT
DTSTART:20190511T233000Z
DTEND:20190512T040000Z
X-MICROSOFT-CDO-ALLDAYEVENT:FALSE
SUMMARY:The Children's Home Society's 23rd Annual World Tour Gala
DESCRIPTION:The Annual Children's Home Society Gala is upon us\, and as they say in New Orleans\, "Laissez les bons temps rouler\," yes\, let the good times roll! Jazz up your night while listening to live music\, grab a roving go-cup for traditional New Orleans' cocktails and enjoy incredible New Orleans' bites. Dig into your locker and find masks to create the perfect costume for this New Orleans soir e. We will supply the beads. A boo-coo good time is promised F'sho. A soir e all in the New Orleans spirit of Lagniappe\, the tradition of giving a little extra\, as we raise money for mental\, emotional & behavioral health care for at-risk children in our community.
X-ALT-DESC;FMTTYPE=text/html:The Annual Children&rsquo\;s Home Society Gala is upon us\, and as they say in New Orleans\, &ldquo\;Laissez les bons temps rouler\,&rdquo\; yes\, let the good times roll! Jazz up your night while listening to live music\, grab a roving go-cup for traditional New Orleans&rsquo\; cocktails and enjoy incredible New Orleans&rsquo\; bites. Dig into your locker and find masks to create the perfect costume for this New Orleans soir&eacute\;e. We will supply the beads. A boo-coo good time is promised F&rsquo\;sho. A soir&eacute\;e all in the New Orleans spirit of Lagniappe\, the tradition of giving a little extra\, as we raise money for mental\, emotional &amp\; behavioral health care for at-risk children in our community.
LOCATION:The Atrium at Albertsons Corporate Office 250 E. Parkcenter Blvd. Boise\, Id 83706
UID:e.1357.11897
SEQUENCE:3
DTSTAMP:20260419T121140Z
URL:https://business.meridianchamber.org/events/details/the-children-s-home-society-s-23rd-annual-world-tour-gala-11897
END:VEVENT

END:VCALENDAR
