BEGIN:VCALENDAR
VERSION:2.0
PRODID:-//ChamberMaster//Event Calendar 2.0//EN
METHOD:PUBLISH
X-PUBLISHED-TTL:P3D
REFRESH-INTERVAL:P3D
CALSCALE:GREGORIAN
BEGIN:VEVENT
DTSTART:20270113T220000Z
DTEND:20270113T233000Z
X-MICROSOFT-CDO-ALLDAYEVENT:FALSE
SUMMARY:Treasure Valley NIA Networking Meeting
DESCRIPTION:Hey Local Idaho Business Owners & Professionals!\n\n\n\nWhy not join us for our NIA Monthly Networking Meetings. \n\n\n\nWe connect\, share\, and grow our businesses\, and we have fun doing it!\n\n\n\nWe've got three awesome NIA groups that meet once a month:\n\n\n\nEach group has "one spot" per business type\, and we currently have some great openings just for you!\n\n\n\nCall or DM me for location and RSVP at 208-546-8558. Thanks\, Scott Marker
X-ALT-DESC;FMTTYPE=text/html:Hey Local Idaho Business Owners &amp\; Professionals!<br />\n<br />\nWhy not join us for our NIA Monthly Networking Meetings.&nbsp\;<br />\n<br />\nWe connect\, share\, and grow our businesses\, and we have fun doing it!<br />\n<br />\nWe&rsquo\;ve got three awesome NIA groups that meet once a month:<br />\n<br />\nEach group has &quot\;one spot&quot\; per business type\, and we currently have some great openings just for you!<br />\n<br />\nCall or DM me for location and RSVP at <a href="tel:208-546-8558">208-546-8558</a>. Thanks\, Scott Marker
LOCATION:RSVP for more details and location. Meridian 83646
UID:e.1357.18519
SEQUENCE:3
DTSTAMP:20260420T192308Z
URL:https://business.meridianchamber.org/events/details/treasure-valley-nia-networkig-meeting-01-13-2027-18519
END:VEVENT

END:VCALENDAR
