BEGIN:VCALENDAR
VERSION:2.0
PRODID:-//ChamberMaster//Event Calendar 2.0//EN
METHOD:PUBLISH
X-PUBLISHED-TTL:P3D
REFRESH-INTERVAL:P3D
CALSCALE:GREGORIAN
BEGIN:VEVENT
DTSTART:20260525T130000Z
DTEND:20260526T020000Z
X-MICROSOFT-CDO-ALLDAYEVENT:FALSE
SUMMARY:Veterans & Military Wash Free on Memorial Day
DESCRIPTION:This Memorial Day\, Metro Express Car Wash is honored to recognize and thank those who have served and continue to serve our country. As a small token of our appreciation\, all veterans and active military members wash free on May 25\, 2026. Stop by any Metro Express Car Wash location anytime between 7:00 AM and 8:00 PM to enjoy your complimentary wash on us. We are deeply grateful for your service\, sacrifice\, and dedication. Thank you for all that you do.
X-ALT-DESC;FMTTYPE=text/html:This Memorial Day\, Metro Express Car Wash is honored to recognize and thank those who have served and continue to serve our country. As a small token of our appreciation\, all veterans and active military members wash free on May 25\, 2026. Stop by any Metro Express Car Wash location anytime between 7:00 AM and 8:00 PM to enjoy your complimentary wash on us. We are deeply grateful for your service\, sacrifice\, and dedication. Thank you for all that you do.
LOCATION:All Metro Express Car Wash Locations
UID:e.1357.18535
SEQUENCE:3
DTSTAMP:20260422T141148Z
URL:https://business.meridianchamber.org/events/details/veterans-military-wash-free-on-memorial-day-18535
END:VEVENT

END:VCALENDAR
