BEGIN:VCALENDAR
VERSION:2.0
PRODID:-//ChamberMaster//Event Calendar 2.0//EN
METHOD:PUBLISH
X-PUBLISHED-TTL:P3D
REFRESH-INTERVAL:P3D
CALSCALE:GREGORIAN
BEGIN:VEVENT
DTSTART:20260409T223000Z
DTEND:20260410T010000Z
X-MICROSOFT-CDO-ALLDAYEVENT:FALSE
SUMMARY:Word of Mouth Mixer: Meaningful Networking for Local Professionals
DESCRIPTION:Join us on April 9th\, 2026\, for the Word of Mouth Mixer presented by Peppershock Media at the Market Optical at the Village in Meridian! This exciting monthly networking event is designed to help you build meaningful relationships and expand your professional network in a fun\, engaging environment. Be sure to check back each month\, as this event is hosted at various business locations around the Treasure Valley.
X-ALT-DESC;FMTTYPE=text/html:Join us on April 9th\, 2026\, for the Word of Mouth Mixer presented by Peppershock Media at the Market Optical at the Village in Meridian! This exciting monthly networking event is designed to help you build meaningful relationships and expand your professional network in a fun\, engaging environment. Be sure to check back each month\, as this event is hosted at various business locations around the Treasure Valley.
LOCATION:Market Optical at the Village in Meridian 3540 E. Longwing Ln. #105 Meridian\, Idaho 83646
UID:e.1357.18789
SEQUENCE:3
DTSTAMP:20260422T184833Z
URL:https://business.meridianchamber.org/events/details/word-of-mouth-mixer-meaningful-networking-for-local-professionals-04-09-2026-18789
END:VEVENT

END:VCALENDAR
